BEGIN:VCALENDAR
VERSION:2.0
PRODID:-//thetablechurch.live - ECPv6.13.2.1//NONSGML v1.0//EN
CALSCALE:GREGORIAN
METHOD:PUBLISH
X-ORIGINAL-URL:https://thetablechurch.live
X-WR-CALDESC:Events for thetablechurch.live
REFRESH-INTERVAL;VALUE=DURATION:PT1H
X-Robots-Tag:noindex
X-PUBLISHED-TTL:PT1H
BEGIN:VTIMEZONE
TZID:UTC
BEGIN:STANDARD
TZOFFSETFROM:+0000
TZOFFSETTO:+0000
TZNAME:UTC
DTSTART:20250101T000000
END:STANDARD
END:VTIMEZONE
BEGIN:VEVENT
DTSTART;TZID=UTC:20250801T183000
DTEND;TZID=UTC:20250801T200000
DTSTAMP:20260418T234719
CREATED:20250724T192007Z
LAST-MODIFIED:20250724T192007Z
UID:615-1754073000-1754078400@thetablechurch.live
SUMMARY:Young Adults City Wide Scavenger Hunt
DESCRIPTION:Want to explore the city like never before?!Then make plans to join us for our Young Adult City-Wide Scavenger Hunt!Grab your friends (or come solo and make some new ones 😄) as we race around Federal Way making memories\, competing against friends\, and end the night with sweet summer treats.🗓 Friday\, August 1st 🕡 6:30pm sharp 📍 Meet at Dick’s Drive-In — Federal Way (32048 Pacific Hwy S)It’s free. It’s fun. And it’s for anyone 18–29.We can’t wait to see you there! 🧩🍧🔥
URL:https://thetablechurch.live/event/young-adults-city-wide-scavenger-hunt/
LOCATION:The Table inside The Common Mall\, 1928 South Commons\, Federal Way\, WA\, 98003\, United States
ATTACH;FMTTYPE=image/jpeg:https://thetablechurch.live/wp-content/uploads/2025/07/Scavenger-Hunt-Horizontal-1.jpg
ORGANIZER;CN="The Table YA":MAILTO:connect@thetablechurch.live
END:VEVENT
BEGIN:VEVENT
DTSTART;TZID=UTC:20250822T170000
DTEND;TZID=UTC:20250822T190000
DTSTAMP:20260418T234719
CREATED:20250708T193010Z
LAST-MODIFIED:20250708T193010Z
UID:599-1755882000-1755889200@thetablechurch.live
SUMMARY:Back to School Bash: Food and Backpack Giveaway
DESCRIPTION:🎒 Back to School Bash – FREE Community Event! \n📅 Friday\, August 22nd 2025 | 5–7 PM \n📍 South Parking Lot Behind the Federal Way Commons Mall Dick’s Sporting Goods (1928 S Commons\, Federal Way\, WA 98003) \nKick off the school year with fun\, live music\, and giveaways at The Table Church’s Back to School Bash! \nWe’re giving away: \n\n35\,000 lbs of FREE supplies including groceries\, snacks\, beverages\, and paper goods\nHundreds of FREE backpacks*\nLive performances\nGames\, face painting\, and other exciting giveaways!\n\nBackpacks are first come\, first served – students MUST be present to receive a backpack. \n🎟️ RSVP on Eventbrite so we plan with you in mind—but please note\, Eventbrite tickets do not guarantee a backpack or supplies. \nBring your family and friends and start the school year off on the right foot! \n(Special thanks to our sponsors: Convoy of Hope and Venture Church)
URL:https://thetablechurch.live/event/back-to-school-bash-food-and-backpack-giveaway/
LOCATION:South Parking Lot Behind The Commons Mall Dick’s Sporting Goods\, 1928 S Commons\, Federal Way\, WA\, 98003\, United States
ATTACH;FMTTYPE=image/png:https://thetablechurch.live/wp-content/uploads/2025/07/Back-to-School-Bash-2025-Presentation.png
END:VEVENT
BEGIN:VEVENT
DTSTART;TZID=UTC:20250824T103000
DTEND;TZID=UTC:20250824T114500
DTSTAMP:20260418T234719
CREATED:20250821T221648Z
LAST-MODIFIED:20250821T221648Z
UID:659-1756031400-1756035900@thetablechurch.live
SUMMARY:Back to Church Bash
DESCRIPTION:We are closing out summer with the Back to Church Bash! You don’t want to miss this special service at The Table with fun for the whole family…enjoy a live choir\, faith-filled message\, ice cream for everyone and a chance to win a $100 Target gift card. \nWe can’t wait to see YOU at the Back to Church Bash Sunday August 24th at 10:30am at The Table inside The Commons Mall. \n(Enter mall through Dick’s Sporting Goods mall entrance)
URL:https://thetablechurch.live/event/back-to-church-bash/
LOCATION:The Table inside The Common Mall\, 1928 South Commons\, Federal Way\, WA\, 98003\, United States
ATTACH;FMTTYPE=image/jpeg:https://thetablechurch.live/wp-content/uploads/2025/08/Back-To-Church-Bash-.jpg
END:VEVENT
END:VCALENDAR