BEGIN:VCALENDAR
VERSION:2.0
PRODID:-//thetablechurch.live - ECPv6.13.2.1//NONSGML v1.0//EN
CALSCALE:GREGORIAN
METHOD:PUBLISH
X-WR-CALNAME:thetablechurch.live
X-ORIGINAL-URL:https://thetablechurch.live
X-WR-CALDESC:Events for thetablechurch.live
REFRESH-INTERVAL;VALUE=DURATION:PT1H
X-Robots-Tag:noindex
X-PUBLISHED-TTL:PT1H
BEGIN:VTIMEZONE
TZID:UTC
BEGIN:STANDARD
TZOFFSETFROM:+0000
TZOFFSETTO:+0000
TZNAME:UTC
DTSTART:20250101T000000
END:STANDARD
END:VTIMEZONE
BEGIN:VEVENT
DTSTART;TZID=UTC:20250419T120000
DTEND;TZID=UTC:20250419T140000
DTSTAMP:20260424T001052
CREATED:20250331T223305Z
LAST-MODIFIED:20250331T224553Z
UID:390-1745064000-1745071200@thetablechurch.live
SUMMARY:Easter Fest
DESCRIPTION:Are you looking for a special way to celebrate Easter this year? Celebrate with a FREE fun-filled day for the family at Easter Fest! Kids will enjoy games and activities\, win candy-filled Easter eggs\, and take free family Easter photos. Your family will have a blast making memories together at Easter Fest… don’t miss out on this egg-straordinary opportunity to celebrate Easter with your family!  \n\n\nWe’ll see you there Saturday April 19th from 12-2pm at the Table inside the Commons Mall ( enter through the Dick’s Sporting Goods mall entrance) 1928 S Commons\, Federal Way\, WA 98003
URL:https://thetablechurch.live/event/easter-fest/
LOCATION:The Table inside The Common Mall\, 1928 South Commons\, Federal Way\, WA\, 98003\, United States
ATTACH;FMTTYPE=image/jpeg:https://thetablechurch.live/wp-content/uploads/2025/03/Easterfest-2025-Presentation.jpg
END:VEVENT
BEGIN:VEVENT
DTSTART;TZID=UTC:20250420T103000
DTEND;TZID=UTC:20250420T114500
DTSTAMP:20260424T001052
CREATED:20250414T190303Z
LAST-MODIFIED:20250414T190303Z
UID:396-1745145000-1745149500@thetablechurch.live
SUMMARY:Easter Sunday
DESCRIPTION:“Hope is worth celebrating! \nEaster is a reminder that hope is alive—and we’d love for you to experience it with us at The Table! \n\nCome enjoy a joyful morning with:  \n✨ A photo booth to capture the moment\n🍩 A donut wall with your name on it\n🎤 A message of hope that will lift your spirit \nMake this Easter meaningful. Join us on Sunday\, April 20th at 10:30 AM at The Table! \nWe’re not just a church—we’re a multicultural\, multigenerational family where you can belong\, believe\, and become all God has created you to be. Whether you’re coming solo or with the whole fam\, there’s something here for everyone—including fun and engaging kids’ programs for all ages! \n\n📍Find us inside The Commons Mall in Federal Way\n(Enter through Dick’s Sporting Goods)\n1928 S. Commons\, Federal Way\, WA 98003 \nWe can’t wait to welcome you\, this Easter at The Table!”
URL:https://thetablechurch.live/event/easter-sunday/
LOCATION:The Table inside The Common Mall\, 1928 South Commons\, Federal Way\, WA\, 98003\, United States
ATTACH;FMTTYPE=image/jpeg:https://thetablechurch.live/wp-content/uploads/2025/04/7.jpg
END:VEVENT
END:VCALENDAR