BEGIN:VCALENDAR
VERSION:2.0
PRODID:-//thetablechurch.live - ECPv6.13.2.1//NONSGML v1.0//EN
CALSCALE:GREGORIAN
METHOD:PUBLISH
X-WR-CALNAME:thetablechurch.live
X-ORIGINAL-URL:https://thetablechurch.live
X-WR-CALDESC:Events for thetablechurch.live
REFRESH-INTERVAL;VALUE=DURATION:PT1H
X-Robots-Tag:noindex
X-PUBLISHED-TTL:PT1H
BEGIN:VTIMEZONE
TZID:UTC
BEGIN:STANDARD
TZOFFSETFROM:+0000
TZOFFSETTO:+0000
TZNAME:UTC
DTSTART:20250101T000000
END:STANDARD
END:VTIMEZONE
BEGIN:VEVENT
DTSTART;TZID=UTC:20250209T103000
DTEND;TZID=UTC:20250209T123000
DTSTAMP:20260424T023924
CREATED:20250123T203751Z
LAST-MODIFIED:20250123T203751Z
UID:358-1739097000-1739104200@thetablechurch.live
SUMMARY:Super Bowl Sunday
DESCRIPTION:Join us for Superbowl Sunday at The Table Sunday February 9th from 10:30am—12:30pm! Enjoy a live worship experience\, faith message\, giveaways and some fun tailgating with appetizers before the game! \nBring your friends and family for delicious appetizers and drawings for FREE prizes! Wear your favorite team’s jersey (even if they didn’t make it to the Superbowl) and share your predictions for the big game. \nMake plans to be at Superbowl Sunday at The Table inside The Common Mall. (Enter mall through Dick’s Sporting Goods mall entrance) 1928 South Commons Federal Way 98003
URL:https://thetablechurch.live/event/super-bowl-sunday/
LOCATION:The Table inside The Common Mall\, 1928 South Commons\, Federal Way\, WA\, 98003\, United States
ATTACH;FMTTYPE=image/png:https://thetablechurch.live/wp-content/uploads/2025/01/2025-1.png
END:VEVENT
END:VCALENDAR