BEGIN:VCALENDAR
VERSION:2.0
PRODID:-//thetablechurch.live - ECPv6.13.2.1//NONSGML v1.0//EN
CALSCALE:GREGORIAN
METHOD:PUBLISH
X-ORIGINAL-URL:https://thetablechurch.live
X-WR-CALDESC:Events for thetablechurch.live
REFRESH-INTERVAL;VALUE=DURATION:PT1H
X-Robots-Tag:noindex
X-PUBLISHED-TTL:PT1H
BEGIN:VTIMEZONE
TZID:UTC
BEGIN:STANDARD
TZOFFSETFROM:+0000
TZOFFSETTO:+0000
TZNAME:UTC
DTSTART:20240101T000000
END:STANDARD
END:VTIMEZONE
BEGIN:VEVENT
DTSTART;TZID=UTC:20241214T120000
DTEND;TZID=UTC:20241214T140000
DTSTAMP:20260424T051833
CREATED:20241127T234947Z
LAST-MODIFIED:20241127T235022Z
UID:251-1734177600-1734184800@thetablechurch.live
SUMMARY:Winter Wonderland
DESCRIPTION:Make plans to enjoy Winter Wonderland at The Table–a festive\, fun\, and FREE event for the whole family! Capture the moment at Photos with Frosty\, enjoy live Christmas music\, decorate Christmas cookies\, warm up with a cup of hot chocolate\, and more! Enter drawings to win a pair of AirPods\, an electric scooter\, and Amazon gift cards! Hope to see you Saturday\, December 14th from 12-2pm at The Table in the Commmons Mall 1928 S Commons Federal Way\, WA 98003 (enter through the Dick’s Sporting Goods mall entrance).
URL:https://thetablechurch.live/event/winter-wonderland/
LOCATION:The Table inside The Common Mall\, 1928 South Commons\, Federal Way\, WA\, 98003\, United States
ATTACH;FMTTYPE=image/png:https://thetablechurch.live/wp-content/uploads/2024/11/screenswinter-wonderland-screens-2024.png
END:VEVENT
BEGIN:VEVENT
DTSTART;TZID=UTC:20241218T183000
DTEND;TZID=UTC:20241218T194500
DTSTAMP:20260424T051833
CREATED:20241205T230234Z
LAST-MODIFIED:20241205T230234Z
UID:256-1734546600-1734551100@thetablechurch.live
SUMMARY:The Snowball
DESCRIPTION:We’ve got something EPIC planned just for you this Christmas season! 🎉\nYou are invited out on Wednesday\, December 18th\, at 6:30 PM for The Movement’s Snow Ball—the ultimate Christmas celebration for 6th–12th graders. \n✨ Here’s what’s happening: 🎁 Someone’s walking away with 2nd Gen AirPods Pro (every friend you bring gives you more chances to win!) 🎄 A night full of games\, Christmas fun\, and memories you’ll never forget.\nThis is THE Christmas party you don’t want to miss\, and we’d love to see YOU there! Bring your squad\, bring the energy\, and let’s celebrate together! 🎅 \n📍 The Table Church (inside the Commons Mall) We can’t wait to see you! Who’s coming?
URL:https://thetablechurch.live/event/the-snowball/
LOCATION:The Table inside The Common Mall\, 1928 South Commons\, Federal Way\, WA\, 98003\, United States
ATTACH;FMTTYPE=image/jpeg:https://thetablechurch.live/wp-content/uploads/2024/12/SNOW-BALL-Presentation.jpg
ORGANIZER;CN="The Movement":MAILTO:brandonj@thetablechurch.live
END:VEVENT
BEGIN:VEVENT
DTSTART;TZID=UTC:20241220T190000
DTEND;TZID=UTC:20241220T210000
DTSTAMP:20260424T051833
CREATED:20241205T232805Z
LAST-MODIFIED:20241205T232805Z
UID:259-1734721200-1734728400@thetablechurch.live
SUMMARY:A 2000s Christmas
DESCRIPTION:Attention young adults! We’re having the best Christmas party around Friday\, Decmeber 20th at 7pm. We want to see YOU there for a nostalgic 2000s Christmas party—wear your Christmas pajamas and grab a friend. We’ll have fun and festive games\, crafts\, hot cocoa\, and a meaningful Christmas Devo. See you there!
URL:https://thetablechurch.live/event/a-2000s-christmas/
LOCATION:WA
ATTACH;FMTTYPE=image/jpeg:https://thetablechurch.live/wp-content/uploads/2024/12/A-2000s-Christmas-YA-Presentation.jpg
ORGANIZER;CN="The Table YA":MAILTO:connect@thetablechurch.live
END:VEVENT
BEGIN:VEVENT
DTSTART;TZID=UTC:20241224T150000
DTEND;TZID=UTC:20241224T160000
DTSTAMP:20260424T051833
CREATED:20241212T214639Z
LAST-MODIFIED:20241212T231103Z
UID:341-1735052400-1735056000@thetablechurch.live
SUMMARY:Christmas Eve Candlelight Service
DESCRIPTION:Experience the joy of Christmas at the Candlelight Christmas Eve service! Enjoy carols\, a nativity scene\, message and kid’s choir! We look forward to celebrating the season with you December 24th at 3pm at The Table inside The Commons Mall. (Enter mall through Dick’s Sporting Goods mall entrance)
URL:https://thetablechurch.live/event/christmas-eve-candlelight-service/
LOCATION:The Table inside The Common Mall\, 1928 South Commons\, Federal Way\, WA\, 98003\, United States
ATTACH;FMTTYPE=image/jpeg:https://thetablechurch.live/wp-content/uploads/2024/12/Christmas-Eve-2.jpg
END:VEVENT
END:VCALENDAR