BEGIN:VCALENDAR
VERSION:2.0
PRODID:-//thetablechurch.live - ECPv6.13.2.1//NONSGML v1.0//EN
CALSCALE:GREGORIAN
METHOD:PUBLISH
X-ORIGINAL-URL:https://thetablechurch.live
X-WR-CALDESC:Events for thetablechurch.live
REFRESH-INTERVAL;VALUE=DURATION:PT1H
X-Robots-Tag:noindex
X-PUBLISHED-TTL:PT1H
BEGIN:VTIMEZONE
TZID:UTC
BEGIN:STANDARD
TZOFFSETFROM:+0000
TZOFFSETTO:+0000
TZNAME:UTC
DTSTART:20240101T000000
END:STANDARD
END:VTIMEZONE
BEGIN:VEVENT
DTSTART;TZID=UTC:20241103T103000
DTEND;TZID=UTC:20241103T114500
DTSTAMP:20260424T064233
CREATED:20241028T180808Z
LAST-MODIFIED:20241028T180820Z
UID:243-1730629800-1730634300@thetablechurch.live
SUMMARY:Pumpkin Pie Sunday
DESCRIPTION:Join us this Sunday 11/03 at 10:30 am at the Table for an incredible worship service\, faith-based message\, and a free slice pumpkin pie! We have programs for kids of all ages\, so bring the whole family to kick off the Holiday Season right! We’ll see you soon at The Table inside the Commons Mall in Federal Way1928 S Commons\, Federal Way\, WA 98003!
URL:https://thetablechurch.live/event/pumpkin-pie-sunday/
LOCATION:The Table inside The Common Mall\, 1928 South Commons\, Federal Way\, WA\, 98003\, United States
ATTACH;FMTTYPE=image/jpeg:https://thetablechurch.live/wp-content/uploads/2024/10/Updated-Pumpkin-Pie-At-The-Table.jpg
END:VEVENT
BEGIN:VEVENT
DTSTART;TZID=UTC:20241106T183000
DTEND;TZID=UTC:20241106T194500
DTSTAMP:20260424T064233
CREATED:20241028T195314Z
LAST-MODIFIED:20241028T204017Z
UID:246-1730917800-1730922300@thetablechurch.live
SUMMARY:Youth Fall Kickback
DESCRIPTION:6th-12th graders are invited to join us for a fun night of games\, snacks\, and friends! We are going to be giving away a $100 prize\, hanging out\, and hearing a great faith-based message. Join us to grow in your faith and meet new friends. \n  \n*There will also be activities for adults and younger kids at the same time*
URL:https://thetablechurch.live/event/youth-fall-kickback/
LOCATION:The Table inside The Common Mall\, 1928 South Commons\, Federal Way\, WA\, 98003\, United States
ATTACH;FMTTYPE=image/jpeg:https://thetablechurch.live/wp-content/uploads/2024/10/YTH-Fall-Kickback-8.5-x-11-in-Presentation.jpg
ORGANIZER;CN="The Movement":MAILTO:brandonj@thetablechurch.live
END:VEVENT
END:VCALENDAR