BEGIN:VCALENDAR
VERSION:2.0
PRODID:-//thetablechurch.live - ECPv6.13.2.1//NONSGML v1.0//EN
CALSCALE:GREGORIAN
METHOD:PUBLISH
X-WR-CALNAME:thetablechurch.live
X-ORIGINAL-URL:https://thetablechurch.live
X-WR-CALDESC:Events for thetablechurch.live
REFRESH-INTERVAL;VALUE=DURATION:PT1H
X-Robots-Tag:noindex
X-PUBLISHED-TTL:PT1H
BEGIN:VTIMEZONE
TZID:UTC
BEGIN:STANDARD
TZOFFSETFROM:+0000
TZOFFSETTO:+0000
TZNAME:UTC
DTSTART:20240101T000000
END:STANDARD
END:VTIMEZONE
BEGIN:VEVENT
DTSTART;TZID=UTC:20241002T183000
DTEND;TZID=UTC:20241002T193000
DTSTAMP:20260424T075604
CREATED:20240926T234748Z
LAST-MODIFIED:20240926T234748Z
UID:228-1727893800-1727897400@thetablechurch.live
SUMMARY:Wednesday Night Light
DESCRIPTION: This is the place to build your FAITH and your FRIENDSHIPS. We have small groups for adults\, youth programs for 6th-12th grade and kids programs for all ages every Wednesday this fall. 
URL:https://thetablechurch.live/event/wednesday-night-light/
LOCATION:The Table inside The Common Mall\, 1928 South Commons\, Federal Way\, WA\, 98003\, United States
ATTACH;FMTTYPE=image/jpeg:https://thetablechurch.live/wp-content/uploads/2024/09/WNL-2-1.jpg
END:VEVENT
BEGIN:VEVENT
DTSTART;TZID=UTC:20241009T183000
DTEND;TZID=UTC:20241009T193000
DTSTAMP:20260424T075604
CREATED:20240926T234838Z
LAST-MODIFIED:20240926T234838Z
UID:231-1728498600-1728502200@thetablechurch.live
SUMMARY:Wednesday Night Light
DESCRIPTION: This is the place to build your FAITH and your FRIENDSHIPS. We have small groups for adults\, youth programs for 6th-12th grade and kids programs for all ages every Wednesday this fall!
URL:https://thetablechurch.live/event/wednesday-night-light-2/
LOCATION:The Table inside The Common Mall\, 1928 South Commons\, Federal Way\, WA\, 98003\, United States
ATTACH;FMTTYPE=image/jpeg:https://thetablechurch.live/wp-content/uploads/2024/09/WNL-2-1.jpg
END:VEVENT
BEGIN:VEVENT
DTSTART;TZID=UTC:20241016T183000
DTEND;TZID=UTC:20241016T194500
DTSTAMP:20260424T075604
CREATED:20241014T223552Z
LAST-MODIFIED:20241014T223552Z
UID:240-1729103400-1729107900@thetablechurch.live
SUMMARY:Wednesday Night Light
DESCRIPTION:Wednesday Night Light is BACK! This is the place to build your FAITH and your FRIENDSHIPS. We have small groups for adults\, kids programs and youth group for teenagers at the same time.
URL:https://thetablechurch.live/event/wednesday-night-light-3/
LOCATION:The Table inside The Common Mall\, 1928 South Commons\, Federal Way\, WA\, 98003\, United States
ATTACH;FMTTYPE=image/jpeg:https://thetablechurch.live/wp-content/uploads/2024/09/WNL-2-1.jpg
END:VEVENT
BEGIN:VEVENT
DTSTART;TZID=UTC:20241031T170000
DTEND;TZID=UTC:20241031T190000
DTSTAMP:20260424T075604
CREATED:20241014T223406Z
LAST-MODIFIED:20241014T223406Z
UID:237-1730394000-1730401200@thetablechurch.live
SUMMARY:Fall Fest
DESCRIPTION:Join us at The Table for our annual Fall Fest!  Families are invited to enjoy a fun\, free evening packed with free candy\, exciting games\, a fall photo booth\, and giveaways. Join us at Fall Fest to make festive memories with your family. We can’t wait to celebrate this season with you and your family on Thursday\, October 31st from 5-7pm inside the Commons Mall in Federal Way (enter through the Dick’s Sporting Goods)1928 S Commons\, Federal Way\, WA 98003
URL:https://thetablechurch.live/event/fall-fest/
LOCATION:The Table inside The Common Mall\, 1928 South Commons\, Federal Way\, WA\, 98003\, United States
ATTACH;FMTTYPE=image/png:https://thetablechurch.live/wp-content/uploads/2024/10/Fall-Fest-Vertical-Presentation.png
END:VEVENT
END:VCALENDAR