BEGIN:VCALENDAR
VERSION:2.0
PRODID:-//thetablechurch.live - ECPv6.13.2.1//NONSGML v1.0//EN
CALSCALE:GREGORIAN
METHOD:PUBLISH
X-ORIGINAL-URL:https://thetablechurch.live
X-WR-CALDESC:Events for thetablechurch.live
REFRESH-INTERVAL;VALUE=DURATION:PT1H
X-Robots-Tag:noindex
X-PUBLISHED-TTL:PT1H
BEGIN:VTIMEZONE
TZID:UTC
BEGIN:STANDARD
TZOFFSETFROM:+0000
TZOFFSETTO:+0000
TZNAME:UTC
DTSTART:20240101T000000
END:STANDARD
END:VTIMEZONE
BEGIN:VEVENT
DTSTART;TZID=UTC:20240721T103000
DTEND;TZID=UTC:20240721T120000
DTSTAMP:20260424T115806
CREATED:20240708T224536Z
LAST-MODIFIED:20240709T202838Z
UID:183-1721557800-1721563200@thetablechurch.live
SUMMARY:Summer Splash
DESCRIPTION:🌞 Dive into Summer Fun at “Summer Splash “! 🌊 Join us for an unforgettable Sunday filled with exciting activities like kids’ water games\, free face painting\, a family photo booth\, free popsicles for the whole family\, and both kids and adults church programs. Enjoy a live worship experience and a faith-filled message at The Table! Don’t miss out on amazing giveaways including kids’ bikes and a family four-pack of Wild Waves tickets! \n\n\n\n\n\n\n\n\n\n\n\n\n\n\n\n\n\n\n\n\nDate: Sunday\, July 21\nTime: 10:30 AM – 12:00 PM\nLocation: The Table Church inside The Commons Mall\, 1928 S Commons\, Federal Way\, WA 98003 (Enter through the Dick’s Sporting Goods entrance) \n\n\nFree entry and fun for the whole family! 🎉🎈
URL:https://thetablechurch.live/event/summer-splash/
LOCATION:The Table inside The Common Mall\, 1928 South Commons\, Federal Way\, WA\, 98003\, United States
ATTACH;FMTTYPE=image/png:https://thetablechurch.live/wp-content/uploads/2024/07/Summer-splash-1920-x-1080-px-2.png
END:VEVENT
END:VCALENDAR