BEGIN:VCALENDAR
VERSION:2.0
PRODID:-//thetablechurch.live - ECPv6.13.2.1//NONSGML v1.0//EN
CALSCALE:GREGORIAN
METHOD:PUBLISH
X-WR-CALNAME:thetablechurch.live
X-ORIGINAL-URL:https://thetablechurch.live
X-WR-CALDESC:Events for thetablechurch.live
REFRESH-INTERVAL;VALUE=DURATION:PT1H
X-Robots-Tag:noindex
X-PUBLISHED-TTL:PT1H
BEGIN:VTIMEZONE
TZID:UTC
BEGIN:STANDARD
TZOFFSETFROM:+0000
TZOFFSETTO:+0000
TZNAME:UTC
DTSTART:20240101T000000
END:STANDARD
END:VTIMEZONE
BEGIN:VEVENT
DTSTART;TZID=UTC:20240623T103000
DTEND;TZID=UTC:20240623T120000
DTSTAMP:20260423T223902
CREATED:20240613T194819Z
LAST-MODIFIED:20240613T194819Z
UID:165-1719138600-1719144000@thetablechurch.live
SUMMARY:Juneteenth
DESCRIPTION: Join us for a joyful Juneteenth Celebration! \nCome and enjoy live performances from a local artist\, an inspiring faith-based message about Juneteenth\, delicious snacks\, giveaways\, and fun programs for kids! Bring your family and friends as we commemorate this important day together with this free\, family event.\nLet’s celebrate freedom\, community\, and heritage!\n Date: Sunday\, June 23rd Time: 10:30am-12:00pm Location: The Table Inside the Commons Mall 1928 S Commons\, Federal Way\, WA 98003 (enter through the Dick’s Sporting Goods Entrance)
URL:https://thetablechurch.live/event/juneteenth/
LOCATION:The Table inside The Common Mall\, 1928 South Commons\, Federal Way\, WA\, 98003\, United States
ATTACH;FMTTYPE=image/png:https://thetablechurch.live/wp-content/uploads/2024/06/juneteenth-wide-screen-1.png
END:VEVENT
BEGIN:VEVENT
DTSTART;TZID=UTC:20240616T103000
DTEND;TZID=UTC:20240616T120000
DTSTAMP:20260423T223902
CREATED:20240523T203225Z
LAST-MODIFIED:20240523T203225Z
UID:143-1718533800-1718539200@thetablechurch.live
SUMMARY:Dad's Day
DESCRIPTION:Looking for Father’s Day plans? You’re invited to The Table for an unforgettable Dad’s Day Celebration! Sunday\, June 16th at 10:30am! We’ve got a great day planned for the whole family. Don’t miss out on hearing an inspiring message about Fatherhood. After the service\, get ready for FREE “Dad’s” root beer and fun lawn games!\nPlus\, we have some incredible giveaways in store!\n\nLet’s come together and celebrate the amazing dads in our lives!\n\nFind us located inside the Commons Mall in Federal Way\n1820 S Commons A16\, Federal Way\, WA 98003\n(Enter through the Dick’s Sporting Goods entrance)
URL:https://thetablechurch.live/event/dads-day/
LOCATION:The Table inside The Common Mall\, 1928 South Commons\, Federal Way\, WA\, 98003\, United States
ATTACH;FMTTYPE=image/png:https://thetablechurch.live/wp-content/uploads/2024/05/dads-day-horizontal.png
END:VEVENT
BEGIN:VEVENT
DTSTART;TZID=UTC:20240512T103000
DTEND;TZID=UTC:20240512T120000
DTSTAMP:20260423T223902
CREATED:20240502T213317Z
LAST-MODIFIED:20240502T213317Z
UID:132-1715509800-1715515200@thetablechurch.live
SUMMARY:Mother's Day Celebration
DESCRIPTION:Looking for a way to celebrate mom this Mother’s Day? Mark your calendar for the Mother’s Day Celebration at The Table. Enjoy a free photo wall\, engaging faith message\, and a special gift for every mom. Show the mom in your life some love this Mother’s Day…we look forward to celebrating with you on Sunday May 12th at 10:30am at The Table inside the Commons Mall (enter through the Dick’s Sporting Goods Entrance)!\n1928 S Commons\, Federal Way\, WA 98003
URL:https://thetablechurch.live/event/mothers-day-celebration/
LOCATION:The Table inside The Common Mall\, 1928 South Commons\, Federal Way\, WA\, 98003\, United States
ATTACH;FMTTYPE=image/png:https://thetablechurch.live/wp-content/uploads/2024/05/Mothers-Day-2024-screens.png
END:VEVENT
BEGIN:VEVENT
DTSTART;TZID=UTC:20240428T120000
DTEND;TZID=UTC:20240428T130000
DTSTAMP:20260423T223902
CREATED:20240421T184930Z
LAST-MODIFIED:20240421T184930Z
UID:118-1714305600-1714309200@thetablechurch.live
SUMMARY:Taste of the Nations
DESCRIPTION:Join us for Taste of the Nations to sample delicious food from around the world and enjoy live performances that celebrate the diversity of our community. This is a fun and FREE event\, perfect for the whole family! Make plans to be with us Sunday\, April 28th from 12:00pm-1:00pm at The Table inside the Commons Mall 1928 S Commons\, Federal Way\, WA 98003 (enter through the Dick’s Sporting Goods mall entrance). See you there!
URL:https://thetablechurch.live/event/taste-of-the-nations/
LOCATION:The Table inside The Common Mall\, 1928 South Commons\, Federal Way\, WA\, 98003\, United States
ATTACH;FMTTYPE=image/jpeg:https://thetablechurch.live/wp-content/uploads/2024/04/375448828_291845400154438_8780252743250075608_n.jpg
END:VEVENT
END:VCALENDAR