BEGIN:VCALENDAR
VERSION:2.0
PRODID:-//thetablechurch.live - ECPv6.13.2.1//NONSGML v1.0//EN
CALSCALE:GREGORIAN
METHOD:PUBLISH
X-WR-CALNAME:thetablechurch.live
X-ORIGINAL-URL:https://thetablechurch.live
X-WR-CALDESC:Events for thetablechurch.live
REFRESH-INTERVAL;VALUE=DURATION:PT1H
X-Robots-Tag:noindex
X-PUBLISHED-TTL:PT1H
BEGIN:VTIMEZONE
TZID:UTC
BEGIN:STANDARD
TZOFFSETFROM:+0000
TZOFFSETTO:+0000
TZNAME:UTC
DTSTART:20250101T000000
END:STANDARD
END:VTIMEZONE
BEGIN:VEVENT
DTSTART;TZID=UTC:20251217T183000
DTEND;TZID=UTC:20251217T200000
DTSTAMP:20260423T172836
CREATED:20251215T233736Z
LAST-MODIFIED:20251215T233736Z
UID:704-1765996200-1766001600@thetablechurch.live
SUMMARY:The Snowball
DESCRIPTION:On Wednesday\, Dec 17 @ 6PM\, The Movement is throwing our 3rd annual Snowball— and trust us\, you do not want to miss this ❄️🔥\nWe’re talking: ☕️ FREE hot cocoa + cookie bar 🎁 Special giveaways 🎮 Christmas games 🙌 Worship ✨ And… we’re dressing up this year! Pull up in your holiday best and let’s make it a night.\nGot friends? Bring ’em. Don’t got friends? You’ll make some. If you’re in 6th–12th grade\, this night is for YOU. See you there\, Movement fam. ❄️❤️
URL:https://thetablechurch.live/event/the-snowball-2/
LOCATION:The Table inside The Common Mall\, 1928 South Commons\, Federal Way\, WA\, 98003\, United States
ATTACH;FMTTYPE=image/jpeg:https://thetablechurch.live/wp-content/uploads/2025/12/Snow-Ball-Graphics-1920-x-1080-px-2.jpg
ORGANIZER;CN="The Movement":MAILTO:brandonj@thetablechurch.live
END:VEVENT
BEGIN:VEVENT
DTSTART;TZID=UTC:20251224T150000
DTEND;TZID=UTC:20251224T160000
DTSTAMP:20260423T172836
CREATED:20251215T232430Z
LAST-MODIFIED:20251215T232430Z
UID:702-1766588400-1766592000@thetablechurch.live
SUMMARY:Christmas Eve Candlelight Service
DESCRIPTION:✨ Make Memories this Christmas Eve✨ \nThere’s nothing quite like gathering  together on Christmas Eve to remember the light and hope Jesus brought into the world. Make plans to be at The Table\, December 24th at 3PM\,  for a special Candlelight Christmas Eve. Enjoy music from our Christmas choir\, joyful children’s performances\, candlelight carols\, and a free gift for everyone! Make this Christmas one to remember as we celebrate the season together at The Table.
URL:https://thetablechurch.live/event/christmas-eve-candlelight-service-2/
LOCATION:The Table inside The Common Mall\, 1928 South Commons\, Federal Way\, WA\, 98003\, United States
ATTACH;FMTTYPE=image/jpeg:https://thetablechurch.live/wp-content/uploads/2025/12/Christmas-Eve-2025.jpg
END:VEVENT
BEGIN:VEVENT
DTSTART;TZID=UTC:20260130T183000
DTEND;TZID=UTC:20260130T200000
DTSTAMP:20260423T172836
CREATED:20260115T004823Z
LAST-MODIFIED:20260115T004901Z
UID:707-1769797800-1769803200@thetablechurch.live
SUMMARY:Women's Vision Night
DESCRIPTION:Join us for a night of Vision as we step boldly into 2026! (All supplies provided) \nWe will have refreshments for the ladies/snacks for kids. \n(We will be providing childcare through 5th grade) \nRegister for free here: https://table.churchcenter.com/registrations/events/3366372
URL:https://thetablechurch.live/event/womens-vision-night/
LOCATION:The Table inside The Common Mall\, 1928 South Commons\, Federal Way\, WA\, 98003\, United States
ATTACH;FMTTYPE=image/png:https://thetablechurch.live/wp-content/uploads/2026/01/Womens-Vision-Night.png
END:VEVENT
BEGIN:VEVENT
DTSTART;TZID=UTC:20260215T103000
DTEND;TZID=UTC:20260215T120000
DTSTAMP:20260423T172836
CREATED:20260126T221825Z
LAST-MODIFIED:20260126T221825Z
UID:710-1771151400-1771156800@thetablechurch.live
SUMMARY:Taste of the Nations
DESCRIPTION:Join us for Taste of the Nations to sample delicious food from around the world\, hear a faith-based message\, enter free giveaways\, and enjoy live performances that celebrate the diversity of our community.🌍 This is a fun and FREE event\, perfect for the whole family! Make plans to be with us Sunday\, February 15th from 10:30am-12:00pm at The Table inside the Commons Mall 1928 S Commons\, Federal Way\, WA 98003 (enter through the mall entrance near Burlington). See you there!\n\nIf you want to bring food from your culture to participate in this event\, fill out this form.
URL:https://thetablechurch.live/event/taste-of-the-nations-3/
LOCATION:The Table inside The Common Mall\, 1928 South Commons\, Federal Way\, WA\, 98003\, United States
ATTACH;FMTTYPE=image/png:https://thetablechurch.live/wp-content/uploads/2026/01/external-horizontal2026-scaled.png
END:VEVENT
BEGIN:VEVENT
DTSTART;TZID=UTC:20260221T093000
DTEND;TZID=UTC:20260221T160000
DTSTAMP:20260423T172836
CREATED:20260212T001916Z
LAST-MODIFIED:20260212T002054Z
UID:732-1771666200-1771689600@thetablechurch.live
SUMMARY:KidCon
DESCRIPTION:Rally with hundreds of other kids for a high-energy day of fun\, powerful worship and a life-changing encounter with Jesus. Jesus says “YOU are the light of the world” – you’ll be inspired to shine bright for Him! \nAll kids 3rd-5th grade welcome! \nEmail sierrab@thetablechurch.live to sign up!
URL:https://thetablechurch.live/event/kidcon/
LOCATION:WA
ATTACH;FMTTYPE=image/jpeg:https://thetablechurch.live/wp-content/uploads/2026/02/2026_KidCon_Key-Art1-1.jpg
END:VEVENT
BEGIN:VEVENT
DTSTART;VALUE=DATE:20260313
DTEND;VALUE=DATE:20260315
DTSTAMP:20260423T172836
CREATED:20260212T001607Z
LAST-MODIFIED:20260212T001607Z
UID:729-1773360000-1773532799@thetablechurch.live
SUMMARY:Women's Conference
DESCRIPTION:Northwest Women’s Conference 2026 is designed to Equip\, Empower\, and Encourage women of every generation\, every culture\, and every calling to say “yes” to God knowing that He will lead us every step of the way. \nNorthwest Women’s Conference is open to all women\, high school age and up! This is a great time to connect and grow with those in your local area as well as with other women from across the network. \nAs we gather together as sisters\, we believe the Holy Spirit will call us into our purpose\, knowing that no matter our age\, background\, ethnicity\, or social standing\, our story is significant and we can shape the world now and for generations to come\, all for the glory and honor of Jesus Christ\, our Lord. \nRegister here: https://table.churchcenter.com/registrations/signups/3444667
URL:https://thetablechurch.live/event/womens-conference/
LOCATION:WA
ATTACH;FMTTYPE=image/png:https://thetablechurch.live/wp-content/uploads/2026/02/NWWC26_logo_1920x1080.png
END:VEVENT
BEGIN:VEVENT
DTSTART;VALUE=DATE:20260405
DTEND;VALUE=DATE:20260406
DTSTAMP:20260423T172836
CREATED:20260311T233531Z
LAST-MODIFIED:20260311T233531Z
UID:751-1775347200-1775433599@thetablechurch.live
SUMMARY:Easter at The Table
DESCRIPTION:Easter is a reminder that hope starts with Jesus. \nCelebrate the joy of Easter with us at The Table! \nCome enjoy an unforgettable morning with: \n🎤 A message of hope that will lift your spirit \n🎉 Engaging programs for kids with candy-filled Easter eggs \n🐰 A visit with the Easter Bunny \n✨ A free family photo wall to capture the moment \n🍩 A delicious donut wall \nMake this Easter meaningful for you and your family. \nSunday\, April 5 • Choose from two service times: 9:30 AM or 11:30 AM
URL:https://thetablechurch.live/event/easter-at-the-table/
LOCATION:The Table inside The Common Mall\, 1928 South Commons\, Federal Way\, WA\, 98003\, United States
ATTACH;FMTTYPE=image/png:https://thetablechurch.live/wp-content/uploads/2026/03/External-Event.png
END:VEVENT
END:VCALENDAR