BEGIN:VCALENDAR
VERSION:2.0
PRODID:-//thetablechurch.live - ECPv6.13.2.1//NONSGML v1.0//EN
CALSCALE:GREGORIAN
METHOD:PUBLISH
X-ORIGINAL-URL:https://thetablechurch.live
X-WR-CALDESC:Events for thetablechurch.live
REFRESH-INTERVAL;VALUE=DURATION:PT1H
X-Robots-Tag:noindex
X-PUBLISHED-TTL:PT1H
BEGIN:VTIMEZONE
TZID:UTC
BEGIN:STANDARD
TZOFFSETFROM:+0000
TZOFFSETTO:+0000
TZNAME:UTC
DTSTART:20250101T000000
END:STANDARD
END:VTIMEZONE
BEGIN:VEVENT
DTSTART;TZID=UTC:20251031T050000
DTEND;TZID=UTC:20251031T190000
DTSTAMP:20260417T154014
CREATED:20251009T231505Z
LAST-MODIFIED:20251009T231505Z
UID:675-1761886800-1761937200@thetablechurch.live
SUMMARY:Fall Fest
DESCRIPTION:Join us at The Table for our annual Fall Fest! 🍁 Families are invited to enjoy a fun\, free evening packed with free candy\, exciting games\, a fall photo booth\, and giveaways. \n🎃 Join us at Fall Fest to make festive memories with your family. We can’t wait to celebrate this season with you and your family on Thursday\, October 31st from 5-7pm inside the Commons Mall in Federal Way (enter through the Dick’s Sporting Goods)1928 S Commons\, Federal Way\, WA 98003.
URL:https://thetablechurch.live/event/fall-fest-2/
LOCATION:The Table inside The Common Mall\, 1928 South Commons\, Federal Way\, WA\, 98003\, United States
ATTACH;FMTTYPE=image/png:https://thetablechurch.live/wp-content/uploads/2025/10/Event.png
END:VEVENT
END:VCALENDAR