BEGIN:VCALENDAR
VERSION:2.0
PRODID:-//thetablechurch.live - ECPv6.13.2.1//NONSGML v1.0//EN
CALSCALE:GREGORIAN
METHOD:PUBLISH
X-WR-CALNAME:thetablechurch.live
X-ORIGINAL-URL:https://thetablechurch.live
X-WR-CALDESC:Events for thetablechurch.live
REFRESH-INTERVAL;VALUE=DURATION:PT1H
X-Robots-Tag:noindex
X-PUBLISHED-TTL:PT1H
BEGIN:VTIMEZONE
TZID:UTC
BEGIN:STANDARD
TZOFFSETFROM:+0000
TZOFFSETTO:+0000
TZNAME:UTC
DTSTART:20250101T000000
END:STANDARD
END:VTIMEZONE
BEGIN:VEVENT
DTSTART;TZID=UTC:20250824T103000
DTEND;TZID=UTC:20250824T114500
DTSTAMP:20260423T203257
CREATED:20250821T221648Z
LAST-MODIFIED:20250821T221648Z
UID:659-1756031400-1756035900@thetablechurch.live
SUMMARY:Back to Church Bash
DESCRIPTION:We are closing out summer with the Back to Church Bash! You don’t want to miss this special service at The Table with fun for the whole family…enjoy a live choir\, faith-filled message\, ice cream for everyone and a chance to win a $100 Target gift card. \nWe can’t wait to see YOU at the Back to Church Bash Sunday August 24th at 10:30am at The Table inside The Commons Mall. \n(Enter mall through Dick’s Sporting Goods mall entrance)
URL:https://thetablechurch.live/event/back-to-church-bash/
LOCATION:The Table inside The Common Mall\, 1928 South Commons\, Federal Way\, WA\, 98003\, United States
ATTACH;FMTTYPE=image/jpeg:https://thetablechurch.live/wp-content/uploads/2025/08/Back-To-Church-Bash-.jpg
END:VEVENT
END:VCALENDAR