BEGIN:VCALENDAR
VERSION:2.0
PRODID:-//thetablechurch.live - ECPv6.13.2.1//NONSGML v1.0//EN
CALSCALE:GREGORIAN
METHOD:PUBLISH
X-WR-CALNAME:thetablechurch.live
X-ORIGINAL-URL:https://thetablechurch.live
X-WR-CALDESC:Events for thetablechurch.live
REFRESH-INTERVAL;VALUE=DURATION:PT1H
X-Robots-Tag:noindex
X-PUBLISHED-TTL:PT1H
BEGIN:VTIMEZONE
TZID:UTC
BEGIN:STANDARD
TZOFFSETFROM:+0000
TZOFFSETTO:+0000
TZNAME:UTC
DTSTART:20250101T000000
END:STANDARD
END:VTIMEZONE
BEGIN:VEVENT
DTSTART;TZID=UTC:20250615T103000
DTEND;TZID=UTC:20250615T120000
DTSTAMP:20260420T094127
CREATED:20250529T200339Z
LAST-MODIFIED:20250529T200339Z
UID:407-1749983400-1749988800@thetablechurch.live
SUMMARY:Juneteenth Celebration
DESCRIPTION:🎉 Join us for a joyful Juneteenth Celebration! 🎉 \nCome and enjoy live performances from a local artist\, an inspiring faith-based message about Juneteenth\, delicious snacks\, giveaways\, and fun programs for kids! Bring your family and friends as we commemorate this important day together with this free\, family event.Let’s celebrate freedom\, community\, and heritage! \n📅 Date: Sunday\, June 15th \n🕒 Time: 10:30am-12:00pm \n📍 Location: The Table Inside the Commons Mall 1928 S Commons\, Federal Way\, WA 98003 (enter through the Dick’s Sporting Goods Mall Entrance)
URL:https://thetablechurch.live/event/juneteenth-celebration/
LOCATION:The Table inside The Common Mall\, 1928 South Commons\, Federal Way\, WA\, 98003\, United States
ATTACH;FMTTYPE=image/png:https://thetablechurch.live/wp-content/uploads/2025/05/External-2025.png
END:VEVENT
END:VCALENDAR