BEGIN:VCALENDAR
VERSION:2.0
PRODID:-//thetablechurch.live - ECPv6.13.2.1//NONSGML v1.0//EN
CALSCALE:GREGORIAN
METHOD:PUBLISH
X-ORIGINAL-URL:https://thetablechurch.live
X-WR-CALDESC:Events for thetablechurch.live
REFRESH-INTERVAL;VALUE=DURATION:PT1H
X-Robots-Tag:noindex
X-PUBLISHED-TTL:PT1H
BEGIN:VTIMEZONE
TZID:UTC
BEGIN:STANDARD
TZOFFSETFROM:+0000
TZOFFSETTO:+0000
TZNAME:UTC
DTSTART:20250101T000000
END:STANDARD
END:VTIMEZONE
BEGIN:VEVENT
DTSTART;TZID=UTC:20250511T103000
DTEND;TZID=UTC:20250511T120000
DTSTAMP:20260424T001347
CREATED:20250505T192117Z
LAST-MODIFIED:20250505T192117Z
UID:400-1746959400-1746964800@thetablechurch.live
SUMMARY:Mother's Day Celebration
DESCRIPTION:Looking for a way to celebrate mom this Mother’s Day? Mark your calendar for the free Mother’s Day celebration at The Table. Enjoy a free photo wall\, engaging faith message\, and a special gift for every mom. Show the mom in your life some love this Mother’s Day…we look forward to celebrating with you on Sunday May 11th at 10:30am at The Table inside the Commons Mall (enter through the Dick’s Sporting Goods Entrance)!1928 S Commons\, Federal Way\, WA 98003
URL:https://thetablechurch.live/event/mothersday/
LOCATION:The Table inside The Common Mall\, 1928 South Commons\, Federal Way\, WA\, 98003\, United States
ATTACH;FMTTYPE=image/jpeg:https://thetablechurch.live/wp-content/uploads/2025/05/1.jpg
END:VEVENT
END:VCALENDAR