BEGIN:VCALENDAR
VERSION:2.0
PRODID:-//thetablechurch.live - ECPv6.13.2.1//NONSGML v1.0//EN
CALSCALE:GREGORIAN
METHOD:PUBLISH
X-WR-CALNAME:thetablechurch.live
X-ORIGINAL-URL:https://thetablechurch.live
X-WR-CALDESC:Events for thetablechurch.live
REFRESH-INTERVAL;VALUE=DURATION:PT1H
X-Robots-Tag:noindex
X-PUBLISHED-TTL:PT1H
BEGIN:VTIMEZONE
TZID:UTC
BEGIN:STANDARD
TZOFFSETFROM:+0000
TZOFFSETTO:+0000
TZNAME:UTC
DTSTART:20250101T000000
END:STANDARD
END:VTIMEZONE
BEGIN:VEVENT
DTSTART;TZID=UTC:20250119T103000
DTEND;TZID=UTC:20250119T123000
DTSTAMP:20260424T052124
CREATED:20250102T230636Z
LAST-MODIFIED:20250102T230636Z
UID:353-1737282600-1737289800@thetablechurch.live
SUMMARY:Community Chili Cook-Off
DESCRIPTION:It’s the perfect time of year for a bowl of steaming hot chili! Mark your calendar for the Community Chili Cook-off at The Table. Bring the whole family for our engaging worship service and afterward service sample some of the best chili in the Northwest! Whether you’re a seasoned pro at cooking up a mean pot of chili or just love to eat it\, this is an event you won’t want to miss. Sign up to compete in the chili contest\, the winner will receive $100. Email connect@thetablechurch.live to sign up!
URL:https://thetablechurch.live/event/community-chili-cook-off/
LOCATION:The Table inside The Common Mall\, 1928 South Commons\, Federal Way\, WA\, 98003\, United States
ATTACH;FMTTYPE=image/png:https://thetablechurch.live/wp-content/uploads/2025/01/2025-GRAPHIC.png
END:VEVENT
END:VCALENDAR