BEGIN:VCALENDAR
VERSION:2.0
PRODID:-//thetablechurch.live - ECPv6.13.2.1//NONSGML v1.0//EN
CALSCALE:GREGORIAN
METHOD:PUBLISH
X-WR-CALNAME:thetablechurch.live
X-ORIGINAL-URL:https://thetablechurch.live
X-WR-CALDESC:Events for thetablechurch.live
REFRESH-INTERVAL;VALUE=DURATION:PT1H
X-Robots-Tag:noindex
X-PUBLISHED-TTL:PT1H
BEGIN:VTIMEZONE
TZID:UTC
BEGIN:STANDARD
TZOFFSETFROM:+0000
TZOFFSETTO:+0000
TZNAME:UTC
DTSTART:20240101T000000
END:STANDARD
END:VTIMEZONE
BEGIN:VEVENT
DTSTART;TZID=UTC:20240907T120000
DTEND;TZID=UTC:20240907T140000
DTSTAMP:20260421T221521
CREATED:20240812T211843Z
LAST-MODIFIED:20240812T211843Z
UID:188-1725710400-1725717600@thetablechurch.live
SUMMARY:Back to School Bash
DESCRIPTION:Kick-off the school year at the Back to School Bash! The Table Church is giving away FREE backpacks for all ages on Saturday\, September 7th from 12-2pm (only while supplies last\, first come first serve!*). *Kids must be present to receive backpacks\n\nBring the whole family for games\, free cotton candy\, free haircuts for kids (first come\, first serve)\, and fun giveaways! Make plans to be at The Table Church inside The Commons Mall in Federal Way. (Enter near Dick’s Sporting Goods mall entrance) 1928 S. Commons Federal Way\, WA
URL:https://thetablechurch.live/event/back-to-school-bash/
LOCATION:The Table inside The Common Mall\, 1928 South Commons\, Federal Way\, WA\, 98003\, United States
ATTACH;FMTTYPE=image/png:https://thetablechurch.live/wp-content/uploads/2024/08/Event-for-socials.png
END:VEVENT
END:VCALENDAR